BEGIN:VCALENDAR
VERSION:2.0
PRODID:-//Wettershus Retreatgård - ECPv6.15.20//NONSGML v1.0//EN
CALSCALE:GREGORIAN
METHOD:PUBLISH
X-WR-CALNAME:Wettershus Retreatgård
X-ORIGINAL-URL:https://wettershus.se
X-WR-CALDESC:Händelser för Wettershus Retreatgård
REFRESH-INTERVAL;VALUE=DURATION:PT1H
X-Robots-Tag:noindex
X-PUBLISHED-TTL:PT1H
BEGIN:VTIMEZONE
TZID:Europe/Stockholm
BEGIN:DAYLIGHT
TZOFFSETFROM:+0100
TZOFFSETTO:+0200
TZNAME:CEST
DTSTART:20250330T010000
END:DAYLIGHT
BEGIN:STANDARD
TZOFFSETFROM:+0200
TZOFFSETTO:+0100
TZNAME:CET
DTSTART:20251026T010000
END:STANDARD
BEGIN:DAYLIGHT
TZOFFSETFROM:+0100
TZOFFSETTO:+0200
TZNAME:CEST
DTSTART:20260329T010000
END:DAYLIGHT
BEGIN:STANDARD
TZOFFSETFROM:+0200
TZOFFSETTO:+0100
TZNAME:CET
DTSTART:20261025T010000
END:STANDARD
BEGIN:DAYLIGHT
TZOFFSETFROM:+0100
TZOFFSETTO:+0200
TZNAME:CEST
DTSTART:20270328T010000
END:DAYLIGHT
BEGIN:STANDARD
TZOFFSETFROM:+0200
TZOFFSETTO:+0100
TZNAME:CET
DTSTART:20271031T010000
END:STANDARD
BEGIN:DAYLIGHT
TZOFFSETFROM:+0100
TZOFFSETTO:+0200
TZNAME:CEST
DTSTART:20280326T010000
END:DAYLIGHT
BEGIN:STANDARD
TZOFFSETFROM:+0200
TZOFFSETTO:+0100
TZNAME:CET
DTSTART:20281029T010000
END:STANDARD
END:VTIMEZONE
BEGIN:VEVENT
DTSTART;TZID=Europe/Stockholm:20260423T183000
DTEND;TZID=Europe/Stockholm:20260426T140000
DTSTAMP:20260419T170031
CREATED:20260218T205740Z
LAST-MODIFIED:20260314T182820Z
UID:10000015-1776969000-1777212000@wettershus.se
SUMMARY:Kom kärlek med ditt ljus- retreat med enskild vägledning
DESCRIPTION:En retreat som tar sin utgångspunkt i den plats i livet där du befinner dig just nu. Varje dag får du träffa en utbildad andlig vägledare som vill hjälpa dig på just din unika livsvandring att söka finna och känna igen den levande Guden. Dagarna inramas av gemensam mässa\, kvällsbön och måltid men tillbringas för övrigt till stor del i enskild bön och meditation. Retreaten anordnas i samarbete med föreningen Kompass.
URL:https://wettershus.se/retreat/kom-karlek-med-ditt-ljus-retreat-med-enskild-vagledning_2026-04-23/
LOCATION:Wettershus Retreatagård\, Öland 40\, Gränna\, 563 93\, Sweden
CATEGORIES:Retreat
ATTACH;FMTTYPE=image/webp:https://wettershus.se/wp-content/uploads/2026/03/Int_22_52.webp
END:VEVENT
BEGIN:VEVENT
DTSTART;TZID=Europe/Stockholm:20260430T190000
DTEND;TZID=Europe/Stockholm:20260503T140000
DTSTAMP:20260419T170031
CREATED:20260316T172013Z
LAST-MODIFIED:20260321T114914Z
UID:10000022-1777575600-1777816800@wettershus.se
SUMMARY:Bara-vara dagar med Tikva (rörelsemeditation)
DESCRIPTION:Bara-vara dagar som inramas med gemensamma andakter och måltider. Tikva är en stillsam rörelsemeditation på kristen grund som kombinerar mjuka rörelser\, andning\, bön och närvaro. Formen syftar till att skapa avspänning\, kroppskännedom och en fördjupad kontakt mellan kropp\, själ och ande. På kvällarna ges möjlighet till vägledning. Möjlighet till enskilt samtal.
URL:https://wettershus.se/retreat/bara-vara-dagar-med-tikva-rorelsemeditation_2026-04-30/
LOCATION:Wettershus Retreatagård\, Öland 40\, Gränna\, 563 93\, Sweden
CATEGORIES:Retreat
ATTACH;FMTTYPE=image/webp:https://wettershus.se/wp-content/uploads/2026/03/Ext_77_52.webp
END:VEVENT
BEGIN:VEVENT
DTSTART;TZID=Europe/Stockholm:20260511T080000
DTEND;TZID=Europe/Stockholm:20260512T160000
DTSTAMP:20260419T170031
CREATED:20260218T205559Z
LAST-MODIFIED:20260314T182951Z
UID:10000016-1778486400-1778601600@wettershus.se
SUMMARY:Arbetsdagar
DESCRIPTION:Tillsammans gör vi gården fin inför sommaren\, både invändigt och utvändigt. Vi följer den vanliga ordningen på Wettershus med böner och måltider och har däremellan olika arbetspass. Välkommen en eller flera dagar. Det går bra att komma redan 7 maj för att vara redo fredag morgon. Anmäl dig senast en vecka i förväg och meddela om du har behov av specialkost.
URL:https://wettershus.se/retreat/arbetsdagar_2026-05-11/
LOCATION:Wettershus Retreatagård\, Öland 40\, Gränna\, 563 93\, Sweden
CATEGORIES:Arbetsdagar
ATTACH;FMTTYPE=image/webp:https://wettershus.se/wp-content/uploads/2026/03/Arb_03_5_2.webp
END:VEVENT
BEGIN:VEVENT
DTSTART;TZID=Europe/Stockholm:20260521T190000
DTEND;TZID=Europe/Stockholm:20260524T140000
DTSTAMP:20260419T170031
CREATED:20260218T205147Z
LAST-MODIFIED:20260301T122835Z
UID:10000017-1779390000-1779631200@wettershus.se
SUMMARY:Var inte rädd
DESCRIPTION:Var inte rädd. Det sägs att denna mening finns på 365 ställen i bibeln\, en för varje dag. Men det är lättare sagt än gjort i vår splittrade och oroliga värld. Hur gör man? Under retreaten tar vi oss tid att med hjälp av kroppen och naturen öva oss i att vara i nuet. Och där\, i nuet\, är också Gud. I nuet kan vi erfara hans kärlek. Den kärlek som fördriver all rädsla (1 Joh 4:18).\nLedare: Linnéa Rosenbaum\, andlig vägledare och aktiv i pilgrimskommuniteten\, och Anna-Sophie Aamand\, andlig vägledare och diakon i Linköping
URL:https://wettershus.se/retreat/var-inte-radd_2026-05-21/
LOCATION:Wettershus Retreatagård\, Öland 40\, Gränna\, 563 93\, Sweden
CATEGORIES:Retreat
ATTACH;FMTTYPE=image/webp:https://wettershus.se/wp-content/uploads/2026/03/Ext_06_5_2-scaled.webp
END:VEVENT
BEGIN:VEVENT
DTSTART;TZID=Europe/Stockholm:20260529T180000
DTEND;TZID=Europe/Stockholm:20260531T140000
DTSTAMP:20260419T170031
CREATED:20260218T205048Z
LAST-MODIFIED:20260309T202653Z
UID:10000018-1780077600-1780236000@wettershus.se
SUMMARY:Dansa hem till ditt hjärta
DESCRIPTION:Cirkeldansen bär på urgammal och hållbar visdom som kan stödja oss i att komma hem till oss själva. Vi dansar i cirkel eller spiralform\, ofta hand i hand med enkla repetitiva steg och rörelser i ordlös gemenskap. Kroppen blir vägen hem till våra hjärtan\, vår själ och våra känslor. Att dansa cirkeldans kan upplevas som en ordlös kroppsbön och kan ge känsla av mening\, samhörighet och livsglädje. Under retreaten följer vi ordningen på Wettershus med tystnad\, bön och måltidsgemenskap.\nLedare: Gunilla Stjernberg\, med lång erfarenhet av att leda grupper i helg dans.\nKaplan: Anna Toivonen\, präst
URL:https://wettershus.se/retreat/dansa-hem-till-ditt-hjarta_2026-05-29/
LOCATION:Wettershus Retreatagård\, Öland 40\, Gränna\, 563 93\, Sweden
CATEGORIES:Retreat
ATTACH;FMTTYPE=image/webp:https://wettershus.se/wp-content/uploads/2026/03/Ann_11_5_2.webp
END:VEVENT
BEGIN:VEVENT
DTSTART;TZID=Europe/Stockholm:20260611T190000
DTEND;TZID=Europe/Stockholm:20260614T140000
DTSTAMP:20260419T170031
CREATED:20260218T205003Z
LAST-MODIFIED:20260301T122624Z
UID:10000019-1781204400-1781445600@wettershus.se
SUMMARY:Pilgrimsretreat-den längsta resan är resan inåt
DESCRIPTION:En retreat där vi varvar pilgrimsvandring och meditation med retreatens stillhet och vila. För den som önskar erbjuds personligt samtal med någon av retreatledarna. Ta med kläder efter väder\, bra vandringsskor\, ryggsäck för dagsvandring\, sittunderlag\, vattenflaska\, termos och matlåda.\nLedare: Rickard Borgenback Kyrkoherde i Skärstad Ölmstads församling. Tidigare föreståndare och pilgrimspräst vid Vadstena Pilgrimscentrum och Helena Borgenback\, sjukhusdiakon i Motala församling.
URL:https://wettershus.se/retreat/pilgrimsretreat-den-langsta-resan-ar-resan-inat_2026-06-11/
LOCATION:Wettershus Retreatagård\, Öland 40\, Gränna\, 563 93\, Sweden
CATEGORIES:Retreat
ATTACH;FMTTYPE=image/webp:https://wettershus.se/wp-content/uploads/2026/03/Sti_03_5_2.webp
END:VEVENT
BEGIN:VEVENT
DTSTART;TZID=Europe/Stockholm:20260622T150000
DTEND;TZID=Europe/Stockholm:20260627T160000
DTSTAMP:20260419T170031
CREATED:20260218T204908Z
LAST-MODIFIED:20260301T110525Z
UID:10000020-1782140400-1782576000@wettershus.se
SUMMARY:Ikonmålarkurs-Den helige Franciskus
DESCRIPTION:Ikonmålning är en sakral konstart som uttrycker himmelsk skönhet. Vi målar med äggtempera. Nybörjare och mer erfarna är välkomna. Max 10 deltagare. Ikonpannåer\, färgpigment och penslar kan köpas på plats. Den som önskar kan välja något annat motiv eller måla vidare på en tidigare påbörjad ikon.\nLedare: Eva Forssell Aronsson.\nKaplan: Lars-Anders Kjellberg\, pastor i Equmeniakyrkan
URL:https://wettershus.se/retreat/ikonmalarkurs-den-helige-franciskus_2026-06-22/
LOCATION:Wettershus Retreatagård\, Öland 40\, Gränna\, 563 93\, Sweden
CATEGORIES:Retreat
ATTACH;FMTTYPE=image/webp:https://wettershus.se/wp-content/uploads/2026/03/Fra_07_5_2.webp
END:VEVENT
BEGIN:VEVENT
DTSTART;TZID=Europe/Stockholm:20260702T190000
DTEND;TZID=Europe/Stockholm:20260705T140000
DTSTAMP:20260419T170031
CREATED:20260316T175402Z
LAST-MODIFIED:20260316T175722Z
UID:10000024-1783018800-1783260000@wettershus.se
SUMMARY:Att leva inifrån och ut - "rotade och grundade i kärleken": Retreat med akvarellmålning
DESCRIPTION:En retreat med skapande i fokus\, låt Gud skapa i ditt hjärta och så skapar vi från våra hjärtan tillsammans. Akvarellmålning för alla\, inga förkunskaper behövs. Dagarna vilar i retreatens anda och rytm men med lågmälda samtal under ”skapandepassen”. 700 kr i kurskostnad som betalas till ledaren. Material finns att köpa\, ca 250–300 kr.
URL:https://wettershus.se/retreat/att-leva-inifran-och-ut-rotade-och-grundade-i-karleken-retreat-med-akvarellmalning_2026-07-02/
LOCATION:Wettershus Retreatagård\, Öland 40\, Gränna\, 563 93\, Sweden
CATEGORIES:Retreat
ATTACH;FMTTYPE=image/webp:https://wettershus.se/wp-content/uploads/2026/03/Ext_69_52.webp
END:VEVENT
BEGIN:VEVENT
DTSTART;TZID=Europe/Stockholm:20260709T190000
DTEND;TZID=Europe/Stockholm:20260712T140000
DTSTAMP:20260419T170031
CREATED:20260316T181044Z
LAST-MODIFIED:20260316T181353Z
UID:10000025-1783623600-1783864800@wettershus.se
SUMMARY:Bara-vara med samtal och rörelsemeditation
DESCRIPTION:Möjlighet att komma till gården för att bara vara i vilsam\, vacker miljö och natur. Tideböner och måltider tillsammans med husfolket\, i övrigt formar du själv din dag. Några samlingar med avspänning och rörelsemeditation för den som vill och på kvällarna möjlighet till gemensamt samtal under ledning av kaplan. Möjlighet till taktil massage som bokas på plats och betalas till massören.
URL:https://wettershus.se/retreat/bara-vara-med-samtal-och-rorelsemeditation_2026-07-09/
LOCATION:Wettershus Retreatagård\, Öland 40\, Gränna\, 563 93\, Sweden
CATEGORIES:Bara-Vara
ATTACH;FMTTYPE=image/webp:https://wettershus.se/wp-content/uploads/2026/03/Ext_70_52.webp
END:VEVENT
BEGIN:VEVENT
DTSTART;TZID=Europe/Stockholm:20260730T190000
DTEND;TZID=Europe/Stockholm:20260802T140000
DTSTAMP:20260419T170031
CREATED:20260316T172533Z
LAST-MODIFIED:20260316T175944Z
UID:10000023-1785438000-1785679200@wettershus.se
SUMMARY:Sommardagar i retreatträdgården Gröna ängar
DESCRIPTION:Under dessa dagar lever och arbetar vi tillsammans i retreatträdgården Gröna Ängar. Dagarna ramas in av bön och gemensamma måltider. Den som vill delta i trädgårdsarbetet tar med arbetshandskar samt kläder och skor som lämpar sig för arbete utomhus. I Storstugan och i kapellet råder tystnad. Samtal förs i Franciskusstugan och ute i trädgården. Om du ej vill delta i arbetet är kostnaden 3 300 kr.
URL:https://wettershus.se/retreat/sommardagar-i-retreattradgarden-grona-angar_2026-07-30/
LOCATION:Wettershus Retreatagård\, Öland 40\, Gränna\, 563 93\, Sweden
CATEGORIES:Retreat
ATTACH;FMTTYPE=image/webp:https://wettershus.se/wp-content/uploads/2026/03/Gro_17B_52.webp
END:VEVENT
BEGIN:VEVENT
DTSTART;TZID=Europe/Stockholm:20260812T190000
DTEND;TZID=Europe/Stockholm:20260816T140000
DTSTAMP:20260419T170031
CREATED:20260316T190116Z
LAST-MODIFIED:20260316T190204Z
UID:10000027-1786561200-1786888800@wettershus.se
SUMMARY:Retreat med enskild vägledning – i ignatiansk anda
DESCRIPTION:Retreaten utgår från ignatiansk andlighet\, med rötter i Ignatius av Loyolas Andliga övningar. Denna tradition betonar att Gud verkar i människans konkreta liv och att den personliga erfarenheten i bönen är en viktig väg till fördjupad tro och urskiljning. Som deltagare i denna retreat får du en vägledare som du möter i enskilt samtal varje dag. Du får förslag till personliga bibeltexter och böneformer och övningar\, anpassade efter din situation. Vägledningen syftar till att hjälpa dig att uppmärksamma Guds närvaro och ledning i ditt eget liv. \nRetreatprogrammet är luftigt med tid att arbeta med de texter och övningar du får av din vägledare. Under retreaten lever vi i tystnad Retreaten erbjuder daglig mässa och den som vill kan delta i Wettershus dagliga böneliv. Några förkunskaper behövs inte\, men en vilja att vara i tystnad och avsätta tid för att möta sin vägledare och arbeta med de övningar som ges – är en förutsättning. Retreaten görs i samarbete med föreningen Kompass.
URL:https://wettershus.se/retreat/retreat-med-enskild-vagledning-i-ignatiansk-anda_2026-08-12/
LOCATION:Wettershus Retreatagård\, Öland 40\, Gränna\, 563 93\, Sweden
CATEGORIES:Retreat
ATTACH;FMTTYPE=image/webp:https://wettershus.se/wp-content/uploads/2026/03/Ext_71_52.webp
END:VEVENT
BEGIN:VEVENT
DTSTART;TZID=Europe/Stockholm:20260827T190000
DTEND;TZID=Europe/Stockholm:20260830T140000
DTSTAMP:20260419T170031
CREATED:20260316T184813Z
LAST-MODIFIED:20260316T185422Z
UID:10000026-1787857200-1788098400@wettershus.se
SUMMARY:Tillåtande tystnad och löftets lyhördhet
DESCRIPTION:Lika viktigt som allting annat i visan är pausen. Under denna retreat lyfts pausen fram\, lyhördheten som kräver tystnad. Tomas Boström leder oss med sin gitarr och sina visor några steg på den vandring som kallas livet. Vilka möter vi? Vad attraheras vi av? Vem får oss att väja med blicken? Allt inramas av retreatens tystnad och stillhet\, gemensam bön och måltid.
URL:https://wettershus.se/retreat/tillatande-tystnad-och-loftets-lyhordhet_2026-08-27/
LOCATION:Wettershus Retreatagård\, Öland 40\, Gränna\, 563 93\, Sweden
CATEGORIES:Retreat
ATTACH;FMTTYPE=image/webp:https://wettershus.se/wp-content/uploads/2026/03/Ext_72_52.webp
END:VEVENT
BEGIN:VEVENT
DTSTART;TZID=Europe/Stockholm:20260831T080000
DTEND;TZID=Europe/Stockholm:20260901T140000
DTSTAMP:20260419T170031
CREATED:20260316T190636Z
LAST-MODIFIED:20260316T190923Z
UID:10000028-1788163200-1788271200@wettershus.se
SUMMARY:Arbetsdagar
DESCRIPTION:Du är varmt välkommen att delta en eller båda dagarna och hjälpa till att göra gården fin inför hösten. Under arbetsdagarna ingår kost och vid behov även logi. Det går bra att komma redan på söndagen och sova över för att vara på plats på måndagen. \nVi börjar dagarna tillsammans med morgonbön kl. 8.30. På tisdag avslutas arbetsdagarna cirka klockan 16.00. Anmäl dig gärna minst en vecka i förväg så att vi vet hur många vi blir. Skriv till info@wettershus.se eller ring 0766-27 17 70. Ta gärna med arbetshandskar samt lämpliga arbetskläder och skor. Varmt välkommen att dela gemenskap i bön och arbete!
URL:https://wettershus.se/retreat/arbetsdagar_2026-08-31/
LOCATION:Wettershus Retreatagård\, Öland 40\, Gränna\, 563 93\, Sweden
CATEGORIES:Arbetsdagar
ATTACH;FMTTYPE=image/webp:https://wettershus.se/wp-content/uploads/2026/03/Ann_14_52.webp
END:VEVENT
BEGIN:VEVENT
DTSTART;TZID=Europe/Stockholm:20260917T190000
DTEND;TZID=Europe/Stockholm:20260920T140000
DTSTAMP:20260419T170031
CREATED:20260316T191137Z
LAST-MODIFIED:20260316T191159Z
UID:10000029-1789671600-1789912800@wettershus.se
SUMMARY:Kom till ro min själ - kristen djupmeditation
DESCRIPTION:Vi söker inre vila och stillhet i dagliga meditationerna i öppenhetens rum. På kvällarna lyssnar vi till röster ur öknens vishet och vägledning. Dagarna vilar i gårdens gemensamma rytm av morgonmässa\, middagsbön och aftonbön\, samt måltider i gemenskap. Möjlighet till taktil massage. Betalas till massören
URL:https://wettershus.se/retreat/kom-till-ro-min-sjal-kristen-djupmeditation_2026-09-17/
LOCATION:Wettershus Retreatagård\, Öland 40\, Gränna\, 563 93\, Sweden
CATEGORIES:Retreat
ATTACH;FMTTYPE=image/webp:https://wettershus.se/wp-content/uploads/2026/03/Ann_15_52.webp
END:VEVENT
BEGIN:VEVENT
DTSTART;TZID=Europe/Stockholm:20261001T190000
DTEND;TZID=Europe/Stockholm:20261004T140000
DTSTAMP:20260419T170031
CREATED:20260316T192042Z
LAST-MODIFIED:20260316T192101Z
UID:10000032-1790881200-1791122400@wettershus.se
SUMMARY:Vid bristningsgränsen
DESCRIPTION:Alla står vi då och då vid vägskäl eller i situationer som blir livsavgörande för oss. Under retreaten får vi tillfälle att spegla oss i några av Bibelns berättelser och hämta kraft och livsmod ur dem.
URL:https://wettershus.se/retreat/vid-bristningsgransen_2026-10-01/
LOCATION:Wettershus Retreatagård\, Öland 40\, Gränna\, 563 93\, Sweden
CATEGORIES:Retreat
ATTACH;FMTTYPE=image/webp:https://wettershus.se/wp-content/uploads/2026/03/Ext_74_52.webp
END:VEVENT
BEGIN:VEVENT
DTSTART;TZID=Europe/Stockholm:20261008T190000
DTEND;TZID=Europe/Stockholm:20261012T140000
DTSTAMP:20260419T170031
CREATED:20260316T192540Z
LAST-MODIFIED:20260316T192606Z
UID:10000033-1791486000-1791813600@wettershus.se
SUMMARY:"…han var fylld av nåd och sanning." Retreat med enskild vägledning.
DESCRIPTION:En retreat som tar sin utgångspunkt i det som är ditt liv och det du längtar efter. I sällskap med Jesus och din vägledare/medvandrare\, får du möjlighet att upptäcka var och hur Gud rör sig i din vardag. \nDagarna vilar i den gemensamma ordningen med morgonmässa\, middagsbön och aftonbön samt måltider. I övrigt lägger du upp din dag med egen bön/bibelmeditation och det enskilda samtalet med din medvandrare. Retreaten anordnas i samarbete med föreningen Kompass. Möjlighet till taktil massage som bokas på plats och betalas till massören.
URL:https://wettershus.se/retreat/han-var-fylld-av-nad-och-sanning-retreat-med-enskild-vagledning_2026-10-08/
LOCATION:Wettershus Retreatagård\, Öland 40\, Gränna\, 563 93\, Sweden
CATEGORIES:Retreat
ATTACH;FMTTYPE=image/webp:https://wettershus.se/wp-content/uploads/2026/03/Ann_21_52.webp
END:VEVENT
BEGIN:VEVENT
DTSTART;TZID=Europe/Stockholm:20261015T190000
DTEND;TZID=Europe/Stockholm:20261018T140000
DTSTAMP:20260419T170031
CREATED:20260316T191817Z
LAST-MODIFIED:20260316T191844Z
UID:10000031-1792090800-1792332000@wettershus.se
SUMMARY:Herren är min herde
DESCRIPTION:En retreat om att söka och finna Jesus\, den gode herdens närvaro i livets olika skiften. I meditationerna slår vi följe med några personer i Bibelns berättelser och lyssnar till deras erfarenheter. Genom deras möten med Gud får vi spegla våra egna liv och ana nya vägar av tillit och hopp. Möjlighet ges till enskilt samtal.
URL:https://wettershus.se/retreat/herren-ar-min-herde_2026-10-15/
LOCATION:Wettershus Retreatagård\, Öland 40\, Gränna\, 563 93\, Sweden
CATEGORIES:Retreat
ATTACH;FMTTYPE=image/webp:https://wettershus.se/wp-content/uploads/2026/03/Kap_17_52.webp
END:VEVENT
BEGIN:VEVENT
DTSTART;TZID=Europe/Stockholm:20261029T190000
DTEND;TZID=Europe/Stockholm:20261101T140000
DTSTAMP:20260419T170031
CREATED:20260316T191351Z
LAST-MODIFIED:20260316T191514Z
UID:10000030-1793300400-1793541600@wettershus.se
SUMMARY:Ditt hjärtas djupaste längtan - samtalsretreat
DESCRIPTION:Vi lyssnar till f.d. skogsmunken Björn Natthiko Lindeblad via Youtube och låter oss vägledas med hjälp av hans meditationer. Totalt 9 pass varav 5 med efterföljande samtal i små grupper\, allt omgivet av den goda tystnaden. Möjlighet till enskilt samtal.
URL:https://wettershus.se/retreat/ditt-hjartas-djupaste-langtan-samtalsretreat_2026-10-29/
LOCATION:Wettershus Retreatagård\, Öland 40\, Gränna\, 563 93\, Sweden
CATEGORIES:Retreat
ATTACH;FMTTYPE=image/webp:https://wettershus.se/wp-content/uploads/2026/03/Sti_13_52.webp
END:VEVENT
BEGIN:VEVENT
DTSTART;TZID=Europe/Stockholm:20261119T190000
DTEND;TZID=Europe/Stockholm:20261122T140000
DTSTAMP:20260419T170031
CREATED:20260316T193245Z
LAST-MODIFIED:20260321T112042Z
UID:10000034-1795114800-1795356000@wettershus.se
SUMMARY:Livet\, längtan och friheten. En Roder-Retreat
DESCRIPTION:En Roder-Retreat förenar stillhet\, bön och eftertanke med varsamma gruppsamtal. Den berör sådant vi alla möter och brottas med i livet och vi utforskar även vår djupa längtan. Allt utmynnar i vår strävan efter inre frihet. Wettershus bönerytm förenas med avslappning\, korta föredrag\, tid för egen eftertanke och tillitsfulla samtal. Du kan läsa mer om Roder på www.roderkurs.com
URL:https://wettershus.se/retreat/livet-langtan-och-friheten-en-roder-retreat_2026-11-19/
LOCATION:Wettershus Retreatagård\, Öland 40\, Gränna\, 563 93\, Sweden
CATEGORIES:Retreat
ATTACH;FMTTYPE=image/webp:https://wettershus.se/wp-content/uploads/2026/03/Ann_16_52.webp
END:VEVENT
BEGIN:VEVENT
DTSTART;TZID=Europe/Stockholm:20261203T190000
DTEND;TZID=Europe/Stockholm:20261206T140000
DTSTAMP:20260419T170031
CREATED:20260316T194938Z
LAST-MODIFIED:20260316T195011Z
UID:10000037-1796324400-1796565600@wettershus.se
SUMMARY:Rastplatser på försoningens väg
DESCRIPTION:Det finns mitt i skogen en oväntad glänta som bara kan hittas av den som gått vilse. Genom bön och vägledning\, meditation och mjuka rörelser\, närmar vi oss en plats i våra liv där försoning kan få finnas som en möjlighet. Det finns tid till enskilda samtal för den som önskar. Möjlighet till taktil massage som bokas på plats och betalas till massören.
URL:https://wettershus.se/retreat/rastplatser-pa-forsoningens-vag_2026-12-03/
LOCATION:Wettershus Retreatagård\, Öland 40\, Gränna\, 563 93\, Sweden
CATEGORIES:Retreat
ATTACH;FMTTYPE=image/webp:https://wettershus.se/wp-content/uploads/2026/03/Ann_22_52.webp
END:VEVENT
BEGIN:VEVENT
DTSTART;TZID=Europe/Stockholm:20261210T190000
DTEND;TZID=Europe/Stockholm:20261213T140000
DTSTAMP:20260419T170031
CREATED:20260316T194003Z
LAST-MODIFIED:20260316T194003Z
UID:10000035-1796929200-1797170400@wettershus.se
SUMMARY:”Barn och broder\, Gud och man\, fridens furste heter han”
DESCRIPTION:Vi riktar blicken mot Betlehem i undran och förundran över barnet som enligt evangelisten Lukas ”ska bli stor och kallas den högste son.” Vad vill vi viska vid krubban? Vad tar vi med oss där ifrån?
URL:https://wettershus.se/retreat/barn-och-broder-gud-och-man-fridens-furste-heter-han/
LOCATION:Wettershus Retreatagård\, Öland 40\, Gränna\, 563 93\, Sweden
CATEGORIES:Retreat
ATTACH;FMTTYPE=image/webp:https://wettershus.se/wp-content/uploads/2026/03/Vat_30_52.webp
END:VEVENT
BEGIN:VEVENT
DTSTART;TZID=Europe/Stockholm:20261217T190000
DTEND;TZID=Europe/Stockholm:20261220T100000
DTSTAMP:20260419T170031
CREATED:20260316T195254Z
LAST-MODIFIED:20260316T195254Z
UID:10000038-1797534000-1797760800@wettershus.se
SUMMARY:Ja till verkligheten
DESCRIPTION:Hur kan vi leva för att möta verkligheten\, ja\, tom motgångar och lidande och trots det bevara hopp och livsmod? Hur säga ja till verkligheten\, också när den känns grå eller smärtfull\, på ett livskraftigt sätt? Vad behövs av Gudsnärvaro – tröst – eller kanske ett tack för det som har varit?
URL:https://wettershus.se/retreat/ja-till-verkligheten/
LOCATION:Wettershus Retreatagård\, Öland 40\, Gränna\, 563 93\, Sweden
CATEGORIES:Retreat
ATTACH;FMTTYPE=image/webp:https://wettershus.se/wp-content/uploads/2026/03/Ann_09_52.webp
END:VEVENT
BEGIN:VEVENT
DTSTART;TZID=Europe/Stockholm:20261229T190000
DTEND;TZID=Europe/Stockholm:20270101T140000
DTSTAMP:20260419T170031
CREATED:20260316T194253Z
LAST-MODIFIED:20260321T114436Z
UID:10000036-1798570800-1798812000@wettershus.se
SUMMARY:Nyårsretreat
DESCRIPTION:Nyårsfirande i tystnad\, stillhet och eftertanke. Vi får tid till att se tillbaka på året som gått och tid till att se fram mot det som väntar. Vid 12-slaget får vi tillsammans be in det nya året. För övrigt följer retreaten samma rytm som andra retreater på Wettershus.
URL:https://wettershus.se/retreat/nyarsretreat_2026-12-29/
LOCATION:Wettershus Retreatagård\, Öland 40\, Gränna\, 563 93\, Sweden
CATEGORIES:Retreat
ATTACH;FMTTYPE=image/webp:https://wettershus.se/wp-content/uploads/2026/03/Ann_23_52.webp
END:VEVENT
END:VCALENDAR