BEGIN:VCALENDAR
VERSION:2.0
PRODID:-//Wettershus Retreatgård - ECPv6.15.20//NONSGML v1.0//EN
CALSCALE:GREGORIAN
METHOD:PUBLISH
X-ORIGINAL-URL:https://wettershus.se
X-WR-CALDESC:Händelser för Wettershus Retreatgård
REFRESH-INTERVAL;VALUE=DURATION:PT1H
X-Robots-Tag:noindex
X-PUBLISHED-TTL:PT1H
BEGIN:VTIMEZONE
TZID:Europe/Stockholm
BEGIN:DAYLIGHT
TZOFFSETFROM:+0100
TZOFFSETTO:+0200
TZNAME:CEST
DTSTART:20250330T010000
END:DAYLIGHT
BEGIN:STANDARD
TZOFFSETFROM:+0200
TZOFFSETTO:+0100
TZNAME:CET
DTSTART:20251026T010000
END:STANDARD
BEGIN:DAYLIGHT
TZOFFSETFROM:+0100
TZOFFSETTO:+0200
TZNAME:CEST
DTSTART:20260329T010000
END:DAYLIGHT
BEGIN:STANDARD
TZOFFSETFROM:+0200
TZOFFSETTO:+0100
TZNAME:CET
DTSTART:20261025T010000
END:STANDARD
BEGIN:DAYLIGHT
TZOFFSETFROM:+0100
TZOFFSETTO:+0200
TZNAME:CEST
DTSTART:20270328T010000
END:DAYLIGHT
BEGIN:STANDARD
TZOFFSETFROM:+0200
TZOFFSETTO:+0100
TZNAME:CET
DTSTART:20271031T010000
END:STANDARD
END:VTIMEZONE
BEGIN:VEVENT
DTSTART;TZID=Europe/Stockholm:20261119T190000
DTEND;TZID=Europe/Stockholm:20261122T140000
DTSTAMP:20260425T144250
CREATED:20260316T193245Z
LAST-MODIFIED:20260321T112042Z
UID:10000034-1795114800-1795356000@wettershus.se
SUMMARY:Livet\, längtan och friheten. En Roder-Retreat
DESCRIPTION:En Roder-Retreat förenar stillhet\, bön och eftertanke med varsamma gruppsamtal. Den berör sådant vi alla möter och brottas med i livet och vi utforskar även vår djupa längtan. Allt utmynnar i vår strävan efter inre frihet. Wettershus bönerytm förenas med avslappning\, korta föredrag\, tid för egen eftertanke och tillitsfulla samtal. Du kan läsa mer om Roder på www.roderkurs.com
URL:https://wettershus.se/retreat/livet-langtan-och-friheten-en-roder-retreat_2026-11-19/
LOCATION:Wettershus Retreatagård\, Öland 40\, Gränna\, 563 93\, Sweden
CATEGORIES:Retreat
ATTACH;FMTTYPE=image/webp:https://wettershus.se/wp-content/uploads/2026/03/Ann_16_52.webp
END:VEVENT
END:VCALENDAR